Package: crisprViz Version: 1.9.0 Command: /home/biocbuild/bbs-3.21-bioc/R/bin/R CMD build --keep-empty-dirs --no-resave-data crisprViz StartedAt: 2025-02-04 16:47:47 -0500 (Tue, 04 Feb 2025) EndedAt: 2025-02-04 16:50:01 -0500 (Tue, 04 Feb 2025) EllapsedTime: 133.2 seconds RetCode: 0 Status: OK PackageFile: crisprViz_1.9.0.tar.gz PackageFileSize: 1.256 MiB