Package: crisprViz Version: 1.9.0 Command: /home/biocbuild/bbs-3.21-bioc/R/bin/R CMD check --install=check:crisprViz.install-out.txt --library=/home/biocbuild/bbs-3.21-bioc/R/site-library --timings crisprViz_1.9.0.tar.gz StartedAt: 2025-02-04 21:17:14 -0500 (Tue, 04 Feb 2025) EndedAt: 2025-02-04 21:25:36 -0500 (Tue, 04 Feb 2025) EllapsedTime: 502.6 seconds RetCode: 0 Status: OK CheckDir: crisprViz.Rcheck Warnings: 0