Package: crisprViz Version: 1.9.0 Command: /home/biocbuild/bbs-3.21-bioc/R/bin/R CMD INSTALL crisprViz StartedAt: 2025-02-04 15:44:33 -0500 (Tue, 04 Feb 2025) EndedAt: 2025-02-04 15:45:25 -0500 (Tue, 04 Feb 2025) EllapsedTime: 51.6 seconds RetCode: 0 Status: OK