Package: crisprViz Version: 1.9.0 Command: rm -rf crisprViz.buildbin-libdir && mkdir crisprViz.buildbin-libdir && E:\biocbuild\bbs-3.21-bioc\R\bin\R.exe CMD INSTALL --build --library=crisprViz.buildbin-libdir crisprViz_1.9.0.tar.gz StartedAt: 2025-02-05 07:43:43 -0500 (Wed, 05 Feb 2025) EndedAt: 2025-02-05 07:44:46 -0500 (Wed, 05 Feb 2025) EllapsedTime: 63.7 seconds RetCode: 0 Status: OK PackageFile: crisprViz_1.9.0.zip PackageFileSize: 746.6 KiB