Package: crisprViz Version: 1.9.0 Command: E:\biocbuild\bbs-3.21-bioc\R\bin\R.exe CMD INSTALL crisprViz StartedAt: 2025-02-04 16:13:41 -0500 (Tue, 04 Feb 2025) EndedAt: 2025-02-04 16:14:47 -0500 (Tue, 04 Feb 2025) EllapsedTime: 66.0 seconds RetCode: 0 Status: OK