############################################################################## ############################################################################## ### ### Running command: ### ### /home/biocbuild/R/R/bin/R CMD INSTALL crlmm ### ############################################################################## ############################################################################## * installing to library ‘/home/biocbuild/R/R-4.5.0-devel_2024-11-24/site-library’ * installing *source* package ‘crlmm’ ... ** using staged installation ** libs using C compiler: ‘aarch64-unknown-linux-gnu-gcc (GCC) 14.2.0’ /opt/ohpc/pub/compiler/gcc/14.2.0/bin/aarch64-unknown-linux-gnu-gcc -I"/home/biocbuild/R/R/include" -DNDEBUG -I'/home/biocbuild/R/R-4.5.0-devel_2024-11-24/site-library/preprocessCore/include' -I/usr/local/include -fPIC -g -O2 -Wall -Werror=format-security -c gtypeCaller.c -o gtypeCaller.o /opt/ohpc/pub/compiler/gcc/14.2.0/bin/aarch64-unknown-linux-gnu-gcc -I"/home/biocbuild/R/R/include" -DNDEBUG -I'/home/biocbuild/R/R-4.5.0-devel_2024-11-24/site-library/preprocessCore/include' -I/usr/local/include -fPIC -g -O2 -Wall -Werror=format-security -c init.c -o init.o /opt/ohpc/pub/compiler/gcc/14.2.0/bin/aarch64-unknown-linux-gnu-gcc -I"/home/biocbuild/R/R/include" -DNDEBUG -I'/home/biocbuild/R/R-4.5.0-devel_2024-11-24/site-library/preprocessCore/include' -I/usr/local/include -fPIC -g -O2 -Wall -Werror=format-security -c trimmed.c -o trimmed.o /opt/ohpc/pub/compiler/gcc/14.2.0/bin/aarch64-unknown-linux-gnu-gcc -I"/home/biocbuild/R/R/include" -DNDEBUG -I'/home/biocbuild/R/R-4.5.0-devel_2024-11-24/site-library/preprocessCore/include' -I/usr/local/include -fPIC -g -O2 -Wall -Werror=format-security -c utils.c -o utils.o utils.c: In function ‘trimmed_mean’: utils.c:56:18: error: implicit declaration of function ‘Calloc’; did you mean ‘calloc’? [-Wimplicit-function-declaration] 56 | double *buffer=Calloc(n, double); | ^~~~~~ | calloc utils.c:56:28: error: expected expression before ‘double’ 56 | double *buffer=Calloc(n, double); | ^~~~~~ utils.c:77:3: error: implicit declaration of function ‘Free’; did you mean ‘free’? [-Wimplicit-function-declaration] 77 | Free(buffer); | ^~~~ | free utils.c: In function ‘trimmed_stats’: utils.c:82:30: error: expected expression before ‘double’ 82 | double *datvec=Calloc(cols,double); | ^~~~~~ utils.c:83:29: error: expected expression before ‘int’ 83 | int *classvec=Calloc(cols,int); | ^~~ utils.c: In function ‘median’: utils.c:119:34: error: expected expression before ‘double’ 119 | double *buffer = Calloc(length,double); | ^~~~~~ utils.c: In function ‘mad_median’: utils.c:141:28: error: expected expression before ‘double’ 141 | double *buffer=Calloc(n, double); | ^~~~~~ utils.c: In function ‘mad_stats’: utils.c:208:30: error: expected expression before ‘double’ 208 | double *datvec=Calloc(cols,double); | ^~~~~~ utils.c:209:29: error: expected expression before ‘int’ 209 | int *classvec=Calloc(cols,int); | ^~~ make: *** [/home/biocbuild/R/R/etc/Makeconf:195: utils.o] Error 1 ERROR: compilation failed for package ‘crlmm’ * removing ‘/home/biocbuild/R/R-4.5.0-devel_2024-11-24/site-library/crlmm’