Package: crlmm Version: 1.65.0 Command: /Library/Frameworks/R.framework/Resources/bin/R CMD INSTALL crlmm StartedAt: 2025-02-09 15:18:23 -0500 (Sun, 09 Feb 2025) EndedAt: 2025-02-09 15:18:29 -0500 (Sun, 09 Feb 2025) EllapsedTime: 5.7 seconds RetCode: 1 Status: ERROR