Package: crlmm Version: 1.65.0 Command: /home/biocbuild/bbs-3.21-bioc/R/bin/R CMD INSTALL crlmm StartedAt: 2025-02-09 15:29:53 -0500 (Sun, 09 Feb 2025) EndedAt: 2025-02-09 15:29:54 -0500 (Sun, 09 Feb 2025) EllapsedTime: 0.9 seconds RetCode: 1 Status: ERROR