Package: crlmm Version: 1.65.0 Command: rm -rf crlmm.buildbin-libdir && mkdir crlmm.buildbin-libdir && E:\biocbuild\bbs-3.21-bioc\R\bin\R.exe CMD INSTALL --build --library=crlmm.buildbin-libdir crlmm_1.65.0.tar.gz StartedAt: 2025-01-22 07:23:56 -0500 (Wed, 22 Jan 2025) EndedAt: 2025-01-22 07:25:37 -0500 (Wed, 22 Jan 2025) EllapsedTime: 101.5 seconds RetCode: 0 Status: OK PackageFile: crlmm_1.65.0.zip PackageFileSize: 5.022 MiB