Package: crlmm Version: 1.65.0 Command: chmod a+r crlmm -R && E:\biocbuild\bbs-3.21-bioc\R\bin\R.exe CMD build --keep-empty-dirs --no-resave-data crlmm StartedAt: 2025-02-09 18:06:28 -0500 (Sun, 09 Feb 2025) EndedAt: 2025-02-09 18:06:39 -0500 (Sun, 09 Feb 2025) EllapsedTime: 10.2 seconds RetCode: 1 Status: ERROR PackageFile: None PackageFileSize: NA