Package: crlmm Version: 1.65.0 Command: E:\biocbuild\bbs-3.21-bioc\R\bin\R.exe CMD INSTALL crlmm StartedAt: 2025-02-09 16:16:17 -0500 (Sun, 09 Feb 2025) EndedAt: 2025-02-09 16:16:21 -0500 (Sun, 09 Feb 2025) EllapsedTime: 3.1 seconds RetCode: 1 Status: ERROR