Package: csaw Version: 1.41.2 Command: /Library/Frameworks/R.framework/Resources/bin/R CMD build --keep-empty-dirs --no-resave-data csaw StartedAt: 2025-02-12 16:01:37 -0500 (Wed, 12 Feb 2025) EndedAt: 2025-02-12 16:02:06 -0500 (Wed, 12 Feb 2025) EllapsedTime: 29.3 seconds RetCode: 0 Status: OK PackageFile: csaw_1.41.2.tar.gz PackageFileSize: 389.2 KiB