Package: csaw Version: 1.41.2 Command: /Library/Frameworks/R.framework/Resources/bin/R CMD INSTALL csaw StartedAt: 2025-02-09 15:07:56 -0500 (Sun, 09 Feb 2025) EndedAt: 2025-02-09 15:08:20 -0500 (Sun, 09 Feb 2025) EllapsedTime: 24.1 seconds RetCode: 0 Status: OK