Package: csaw Version: 1.41.2 Command: /home/biocbuild/bbs-3.21-bioc/R/bin/R CMD build --keep-empty-dirs --no-resave-data csaw StartedAt: 2025-02-09 16:49:54 -0500 (Sun, 09 Feb 2025) EndedAt: 2025-02-09 16:51:17 -0500 (Sun, 09 Feb 2025) EllapsedTime: 83.1 seconds RetCode: 0 Status: OK PackageFile: csaw_1.41.2.tar.gz PackageFileSize: 389.3 KiB