Package: csaw Version: 1.41.2 Command: /home/biocbuild/bbs-3.21-bioc/R/bin/R CMD check --install=check:csaw.install-out.txt --library=/home/biocbuild/bbs-3.21-bioc/R/site-library --timings csaw_1.41.2.tar.gz StartedAt: 2025-02-12 21:16:28 -0500 (Wed, 12 Feb 2025) EndedAt: 2025-02-12 21:24:08 -0500 (Wed, 12 Feb 2025) EllapsedTime: 460.6 seconds RetCode: 0 Status: OK CheckDir: csaw.Rcheck Warnings: 0