Package: csaw Version: 1.41.2 Command: /home/biocbuild/bbs-3.21-bioc/R/bin/R CMD INSTALL csaw StartedAt: 2025-02-12 15:17:22 -0500 (Wed, 12 Feb 2025) EndedAt: 2025-02-12 15:18:34 -0500 (Wed, 12 Feb 2025) EllapsedTime: 71.6 seconds RetCode: 0 Status: OK