Package: csaw Version: 1.41.2 Command: rm -rf csaw.buildbin-libdir && mkdir csaw.buildbin-libdir && E:\biocbuild\bbs-3.21-bioc\R\bin\R.exe CMD INSTALL --build --library=csaw.buildbin-libdir csaw_1.41.2.tar.gz StartedAt: 2025-02-10 07:32:39 -0500 (Mon, 10 Feb 2025) EndedAt: 2025-02-10 07:34:33 -0500 (Mon, 10 Feb 2025) EllapsedTime: 114.7 seconds RetCode: 0 Status: OK PackageFile: csaw_1.41.2.zip PackageFileSize: 5.788 MiB