Package: csaw Version: 1.41.2 Command: chmod a+r csaw -R && E:\biocbuild\bbs-3.21-bioc\R\bin\R.exe CMD build --keep-empty-dirs --no-resave-data csaw StartedAt: 2025-02-09 18:06:51 -0500 (Sun, 09 Feb 2025) EndedAt: 2025-02-09 18:08:54 -0500 (Sun, 09 Feb 2025) EllapsedTime: 123.2 seconds RetCode: 0 Status: OK PackageFile: csaw_1.41.2.tar.gz PackageFileSize: 389.3 KiB