Package: csdR Version: 1.13.3 Command: /Library/Frameworks/R.framework/Resources/bin/R CMD INSTALL csdR StartedAt: 2025-02-04 15:19:45 -0500 (Tue, 04 Feb 2025) EndedAt: 2025-02-04 15:19:55 -0500 (Tue, 04 Feb 2025) EllapsedTime: 10.6 seconds RetCode: 0 Status: OK