Package: csdR Version: 1.13.3 Command: /home/biocbuild/R/R/bin/R CMD build --keep-empty-dirs --no-resave-data csdR StartedAt: 2025-01-28 22:11:11 -0000 (Tue, 28 Jan 2025) EndedAt: 2025-01-28 22:12:12 -0000 (Tue, 28 Jan 2025) EllapsedTime: 61.0 seconds RetCode: 0 Status: OK PackageFile: csdR_1.13.3.tar.gz PackageFileSize: 1.389 MiB