Package: csdR Version: 1.13.3 Command: rm -rf csdR.buildbin-libdir && mkdir csdR.buildbin-libdir && /Users/biocbuild/BBS/utils/build-universal.sh csdR_1.13.3.tar.gz /Library/Frameworks/R.framework/Resources/bin/R csdR.buildbin-libdir StartedAt: 2025-02-10 00:48:47 -0500 (Mon, 10 Feb 2025) EndedAt: 2025-02-10 00:49:29 -0500 (Mon, 10 Feb 2025) EllapsedTime: 41.7 seconds RetCode: 0 Status: OK PackageFile: csdR_1.13.3.tgz PackageFileSize: 1.513 MiB