Package: csdR Version: 1.13.3 Command: /Library/Frameworks/R.framework/Resources/bin/R CMD build --keep-empty-dirs --no-resave-data csdR StartedAt: 2025-02-09 16:25:18 -0500 (Sun, 09 Feb 2025) EndedAt: 2025-02-09 16:26:11 -0500 (Sun, 09 Feb 2025) EllapsedTime: 52.7 seconds RetCode: 0 Status: OK PackageFile: csdR_1.13.3.tar.gz PackageFileSize: 1.46 MiB