Package: csdR Version: 1.13.3 Command: /home/biocbuild/bbs-3.21-bioc/R/bin/R CMD build --keep-empty-dirs --no-resave-data csdR StartedAt: 2025-02-12 16:46:54 -0500 (Wed, 12 Feb 2025) EndedAt: 2025-02-12 16:47:44 -0500 (Wed, 12 Feb 2025) EllapsedTime: 50.0 seconds RetCode: 0 Status: OK PackageFile: csdR_1.13.3.tar.gz PackageFileSize: 1.442 MiB