Package: csdR Version: 1.13.3 Command: /home/biocbuild/bbs-3.21-bioc/R/bin/R CMD INSTALL csdR StartedAt: 2025-02-12 15:42:58 -0500 (Wed, 12 Feb 2025) EndedAt: 2025-02-12 15:43:28 -0500 (Wed, 12 Feb 2025) EllapsedTime: 30.5 seconds RetCode: 0 Status: OK