Package: csdR Version: 1.13.3 Command: E:\biocbuild\bbs-3.21-bioc\R\bin\R.exe CMD INSTALL csdR StartedAt: 2025-02-12 15:55:29 -0500 (Wed, 12 Feb 2025) EndedAt: 2025-02-12 15:56:06 -0500 (Wed, 12 Feb 2025) EllapsedTime: 36.6 seconds RetCode: 0 Status: OK