Package: ctc Version: 1.81.0 Command: /Library/Frameworks/R.framework/Resources/bin/R CMD INSTALL ctc StartedAt: 2025-02-12 15:00:52 -0500 (Wed, 12 Feb 2025) EndedAt: 2025-02-12 15:00:55 -0500 (Wed, 12 Feb 2025) EllapsedTime: 3.3 seconds RetCode: 0 Status: OK