Package: ctc Version: 1.81.0 Command: /home/biocbuild/bbs-3.21-bioc/R/bin/R CMD build --keep-empty-dirs --no-resave-data ctc StartedAt: 2025-02-09 16:50:05 -0500 (Sun, 09 Feb 2025) EndedAt: 2025-02-09 16:50:10 -0500 (Sun, 09 Feb 2025) EllapsedTime: 5.0 seconds RetCode: 0 Status: OK PackageFile: ctc_1.81.0.tar.gz PackageFileSize: 270.3 KiB