Package: ctc Version: 1.81.0 Command: /home/biocbuild/bbs-3.21-bioc/R/bin/R CMD check --install=check:ctc.install-out.txt --library=/home/biocbuild/bbs-3.21-bioc/R/site-library --timings ctc_1.81.0.tar.gz StartedAt: 2025-02-12 21:17:37 -0500 (Wed, 12 Feb 2025) EndedAt: 2025-02-12 21:17:55 -0500 (Wed, 12 Feb 2025) EllapsedTime: 18.0 seconds RetCode: 0 Status: OK CheckDir: ctc.Rcheck Warnings: 0