Package: ctc Version: 1.81.0 Command: /home/biocbuild/bbs-3.21-bioc/R/bin/R CMD INSTALL ctc StartedAt: 2025-02-09 15:03:57 -0500 (Sun, 09 Feb 2025) EndedAt: 2025-02-09 15:04:22 -0500 (Sun, 09 Feb 2025) EllapsedTime: 25.1 seconds RetCode: 0 Status: OK