Package: ctc Version: 1.81.0 Command: rm -rf ctc.buildbin-libdir && mkdir ctc.buildbin-libdir && E:\biocbuild\bbs-3.21-bioc\R\bin\R.exe CMD INSTALL --build --library=ctc.buildbin-libdir ctc_1.81.0.tar.gz StartedAt: 2025-02-10 07:32:58 -0500 (Mon, 10 Feb 2025) EndedAt: 2025-02-10 07:33:06 -0500 (Mon, 10 Feb 2025) EllapsedTime: 8.1 seconds RetCode: 0 Status: OK PackageFile: ctc_1.81.0.zip PackageFileSize: 140.9 KiB