Package: ctc Version: 1.81.0 Command: chmod a+r ctc -R && E:\biocbuild\bbs-3.21-bioc\R\bin\R.exe CMD build --keep-empty-dirs --no-resave-data ctc StartedAt: 2025-02-09 18:07:05 -0500 (Sun, 09 Feb 2025) EndedAt: 2025-02-09 18:07:17 -0500 (Sun, 09 Feb 2025) EllapsedTime: 12.1 seconds RetCode: 0 Status: OK PackageFile: ctc_1.81.0.tar.gz PackageFileSize: 90 KiB