Package: cummeRbund Version: 2.49.0 Command: /home/biocbuild/R/R/bin/R CMD check --install=check:cummeRbund.install-out.txt --library=/home/biocbuild/R/R/site-library --no-vignettes --timings cummeRbund_2.49.0.tar.gz StartedAt: 2025-01-28 09:38:08 -0000 (Tue, 28 Jan 2025) EndedAt: 2025-01-28 09:46:00 -0000 (Tue, 28 Jan 2025) EllapsedTime: 472.4 seconds RetCode: 0 Status: WARNINGS CheckDir: cummeRbund.Rcheck Warnings: 7