Package: cummeRbund Version: 2.49.0 Command: /home/biocbuild/R/R/bin/R CMD INSTALL cummeRbund StartedAt: 2025-01-29 20:10:27 -0000 (Wed, 29 Jan 2025) EndedAt: 2025-01-29 20:11:50 -0000 (Wed, 29 Jan 2025) EllapsedTime: 83.6 seconds RetCode: 0 Status: OK