Package: cummeRbund Version: 2.49.0 Command: /home/biocbuild/bbs-3.21-bioc/R/bin/R CMD INSTALL cummeRbund StartedAt: 2025-02-09 15:46:32 -0500 (Sun, 09 Feb 2025) EndedAt: 2025-02-09 15:47:31 -0500 (Sun, 09 Feb 2025) EllapsedTime: 59.5 seconds RetCode: 0 Status: OK