Package: customCMPdb Version: 1.17.0 Command: rm -rf customCMPdb.buildbin-libdir && mkdir customCMPdb.buildbin-libdir && /Users/biocbuild/BBS/utils/build-universal.sh customCMPdb_1.17.0.tar.gz /Library/Frameworks/R.framework/Resources/bin/R customCMPdb.buildbin-libdir StartedAt: 2025-02-06 00:25:57 -0500 (Thu, 06 Feb 2025) EndedAt: 2025-02-06 00:26:23 -0500 (Thu, 06 Feb 2025) EllapsedTime: 25.4 seconds RetCode: 0 Status: OK PackageFile: customCMPdb_1.17.0.tgz PackageFileSize: 735.3 KiB