Package: customCMPdb Version: 1.17.0 Command: rm -rf customCMPdb.buildbin-libdir && mkdir customCMPdb.buildbin-libdir && E:\biocbuild\bbs-3.21-bioc\R\bin\R.exe CMD INSTALL --build --library=customCMPdb.buildbin-libdir customCMPdb_1.17.0.tar.gz StartedAt: 2025-02-10 07:33:21 -0500 (Mon, 10 Feb 2025) EndedAt: 2025-02-10 07:33:57 -0500 (Mon, 10 Feb 2025) EllapsedTime: 35.7 seconds RetCode: 0 Status: OK PackageFile: customCMPdb_1.17.0.zip PackageFileSize: 690.9 KiB