Package: customCMPdb Version: 1.17.0 Command: chmod a+r customCMPdb -R && E:\biocbuild\bbs-3.21-bioc\R\bin\R.exe CMD build --keep-empty-dirs --no-resave-data customCMPdb StartedAt: 2025-02-09 18:07:41 -0500 (Sun, 09 Feb 2025) EndedAt: 2025-02-09 18:10:10 -0500 (Sun, 09 Feb 2025) EllapsedTime: 148.7 seconds RetCode: 0 Status: OK PackageFile: customCMPdb_1.17.0.tar.gz PackageFileSize: 650.5 KiB