Package: customCMPdb Version: 1.17.0 Command: E:\biocbuild\bbs-3.21-bioc\R\bin\R.exe CMD INSTALL customCMPdb StartedAt: 2025-02-09 16:09:16 -0500 (Sun, 09 Feb 2025) EndedAt: 2025-02-09 16:09:44 -0500 (Sun, 09 Feb 2025) EllapsedTime: 28.0 seconds RetCode: 0 Status: OK