Package: customProDB Version: 1.47.0 Maintainer: Xiaojing Wang MaintainerEmail: xwang.research at gmail.com git_url: https://git.bioconductor.org/packages/customProDB git_branch: devel git_last_commit: 695c102 git_last_commit_date: 2024-10-29 09:46:25 -0500 (Tue, 29 Oct 2024)