Package: customProDB Version: 1.47.0 Command: rm -rf customProDB.buildbin-libdir && mkdir customProDB.buildbin-libdir && /Users/biocbuild/BBS/utils/build-universal.sh customProDB_1.47.0.tar.gz /Library/Frameworks/R.framework/Resources/bin/R customProDB.buildbin-libdir StartedAt: 2025-02-09 22:11:10 -0500 (Sun, 09 Feb 2025) EndedAt: 2025-02-09 22:11:30 -0500 (Sun, 09 Feb 2025) EllapsedTime: 19.4 seconds RetCode: 0 Status: OK PackageFile: customProDB_1.47.0.tgz PackageFileSize: 719.6 KiB