Package: customProDB Version: 1.47.0 Command: /Library/Frameworks/R.framework/Resources/bin/R CMD check --install=check:customProDB.install-out.txt --library=/Library/Frameworks/R.framework/Resources/library --no-vignettes --timings customProDB_1.47.0.tar.gz StartedAt: 2025-02-12 18:48:29 -0500 (Wed, 12 Feb 2025) EndedAt: 2025-02-12 18:51:10 -0500 (Wed, 12 Feb 2025) EllapsedTime: 160.8 seconds RetCode: 0 Status: WARNINGS CheckDir: customProDB.Rcheck Warnings: 1