Package: customProDB Version: 1.47.0 Command: rm -rf customProDB.buildbin-libdir && mkdir customProDB.buildbin-libdir && /Users/biocbuild/BBS/utils/build-universal.sh customProDB_1.47.0.tar.gz /Library/Frameworks/R.framework/Resources/bin/R customProDB.buildbin-libdir StartedAt: 2025-02-10 00:49:01 -0500 (Mon, 10 Feb 2025) EndedAt: 2025-02-10 00:50:03 -0500 (Mon, 10 Feb 2025) EllapsedTime: 61.3 seconds RetCode: 0 Status: OK PackageFile: customProDB_1.47.0.tgz PackageFileSize: 718.8 KiB