Package: customProDB Version: 1.47.0 Command: /Library/Frameworks/R.framework/Resources/bin/R CMD INSTALL customProDB StartedAt: 2025-02-09 15:21:19 -0500 (Sun, 09 Feb 2025) EndedAt: 2025-02-09 15:22:17 -0500 (Sun, 09 Feb 2025) EllapsedTime: 57.9 seconds RetCode: 0 Status: OK