Package: customProDB Version: 1.47.0 Command: rm -rf customProDB.buildbin-libdir && mkdir customProDB.buildbin-libdir && E:\biocbuild\bbs-3.21-bioc\R\bin\R.exe CMD INSTALL --build --library=customProDB.buildbin-libdir customProDB_1.47.0.tar.gz StartedAt: 2025-02-13 07:43:58 -0500 (Thu, 13 Feb 2025) EndedAt: 2025-02-13 07:45:02 -0500 (Thu, 13 Feb 2025) EllapsedTime: 63.8 seconds RetCode: 0 Status: OK PackageFile: customProDB_1.47.0.zip PackageFileSize: 729.4 KiB