Package: customProDB Version: 1.47.0 Command: chmod a+r customProDB -R && E:\biocbuild\bbs-3.21-bioc\R\bin\R.exe CMD build --keep-empty-dirs --no-resave-data customProDB StartedAt: 2025-02-12 18:10:45 -0500 (Wed, 12 Feb 2025) EndedAt: 2025-02-12 18:12:16 -0500 (Wed, 12 Feb 2025) EllapsedTime: 91.1 seconds RetCode: 0 Status: OK PackageFile: customProDB_1.47.0.tar.gz PackageFileSize: 541.3 KiB