Package: customProDB Version: 1.47.0 Command: E:\biocbuild\bbs-3.21-bioc\R\bin\R.exe CMD check --no-multiarch --install=check:customProDB.install-out.txt --library=E:\biocbuild\bbs-3.21-bioc\R\library --no-vignettes --timings customProDB_1.47.0.tar.gz StartedAt: 2025-02-13 00:16:21 -0500 (Thu, 13 Feb 2025) EndedAt: 2025-02-13 00:21:59 -0500 (Thu, 13 Feb 2025) EllapsedTime: 338.5 seconds RetCode: 0 Status: WARNINGS CheckDir: customProDB.Rcheck Warnings: 1