Package: customProDB Version: 1.47.0 Command: E:\biocbuild\bbs-3.21-bioc\R\bin\R.exe CMD INSTALL customProDB StartedAt: 2025-02-09 16:39:55 -0500 (Sun, 09 Feb 2025) EndedAt: 2025-02-09 16:40:57 -0500 (Sun, 09 Feb 2025) EllapsedTime: 62.5 seconds RetCode: 0 Status: OK