Package: cycle Version: 1.61.0 Command: /Library/Frameworks/R.framework/Resources/bin/R CMD INSTALL cycle StartedAt: 2025-02-09 15:03:35 -0500 (Sun, 09 Feb 2025) EndedAt: 2025-02-09 15:03:38 -0500 (Sun, 09 Feb 2025) EllapsedTime: 3.2 seconds RetCode: 0 Status: OK