Package: cycle Version: 1.61.0 Command: /home/biocbuild/R/R/bin/R CMD build --keep-empty-dirs --no-resave-data cycle StartedAt: 2025-01-28 22:13:14 -0000 (Tue, 28 Jan 2025) EndedAt: 2025-01-28 22:13:47 -0000 (Tue, 28 Jan 2025) EllapsedTime: 33.0 seconds RetCode: 0 Status: OK PackageFile: cycle_1.61.0.tar.gz PackageFileSize: 241.2 KiB