Package: cycle Version: 1.61.0 Command: /Library/Frameworks/R.framework/Resources/bin/R CMD INSTALL cycle StartedAt: 2025-02-04 15:08:35 -0500 (Tue, 04 Feb 2025) EndedAt: 2025-02-04 15:08:59 -0500 (Tue, 04 Feb 2025) EllapsedTime: 23.6 seconds RetCode: 0 Status: OK